BEGIN:VCALENDAR
VERSION:2.0
PRODID:-//The Good Arles - ECPv6.15.15//NONSGML v1.0//EN
CALSCALE:GREGORIAN
METHOD:PUBLISH
X-WR-CALNAME:The Good Arles
X-ORIGINAL-URL:https://www.thegoodarles.com
X-WR-CALDESC:Évènements pour The Good Arles
REFRESH-INTERVAL;VALUE=DURATION:PT1H
X-Robots-Tag:noindex
X-PUBLISHED-TTL:PT1H
BEGIN:VTIMEZONE
TZID:Europe/Paris
BEGIN:DAYLIGHT
TZOFFSETFROM:+0100
TZOFFSETTO:+0200
TZNAME:CEST
DTSTART:20230326T010000
END:DAYLIGHT
BEGIN:STANDARD
TZOFFSETFROM:+0200
TZOFFSETTO:+0100
TZNAME:CET
DTSTART:20231029T010000
END:STANDARD
BEGIN:DAYLIGHT
TZOFFSETFROM:+0100
TZOFFSETTO:+0200
TZNAME:CEST
DTSTART:20240331T010000
END:DAYLIGHT
BEGIN:STANDARD
TZOFFSETFROM:+0200
TZOFFSETTO:+0100
TZNAME:CET
DTSTART:20241027T010000
END:STANDARD
BEGIN:DAYLIGHT
TZOFFSETFROM:+0100
TZOFFSETTO:+0200
TZNAME:CEST
DTSTART:20250330T010000
END:DAYLIGHT
BEGIN:STANDARD
TZOFFSETFROM:+0200
TZOFFSETTO:+0100
TZNAME:CET
DTSTART:20251026T010000
END:STANDARD
END:VTIMEZONE
BEGIN:VEVENT
DTSTART;TZID=Europe/Paris:20240630T100000
DTEND;TZID=Europe/Paris:20240630T140000
DTSTAMP:20260421T230836
CREATED:20240210T102134Z
LAST-MODIFIED:20240211T170022Z
UID:10000292-1719741600-1719756000@www.thegoodarles.com
SUMMARY:Roussataïo 2024 à Arles
DESCRIPTION:Roussataïo 2024ARLES30 juin 2024La prochaine roussataïo à Arles aura lieu le dimanche 30 juin 2024 avec plus de 70 juments camarguaises et leurs poulains qui traverseront la ville.\nUn événement organisé par Festiv’Arles et le comité des fêtes à l’occasion de la Fête du Costume qui se déroule le même jour. \nLe départ aura lieu au niveau du théâtre municipal à 10h. Les juments et leurs poulains remonteront ensuite le boulevard des Lices pour rejoindre la place de la République avant de repartir sur les Lices jusqu’au commissariat. \nNOS BONNES ADRESSES SUR ARLES\nET LA CAMARGUE \n				\n	\n\n				\n		\n												\n					\n						De la Terre à la Table – Primeur à Arles					\n				\n			\n								\n		\n						\n	\n\n\n\n				\n	\n\n				\n		\n												\n					\n						La Cave à Vin – Caviste à Arles					\n				\n			\n								\n		\n						\n	\n\n\n\n				\n	\n\n				\n		\n												\n					\n						L’Apostrophe Café – Bar Lounge et Brasserie – Place du Forum à Arles					\n				\n			\n								\n		\n						\n	\n\n\n\n				\n	\n\n				\n		\n												\n					\n						Farfantello – Boutique jouets et déco Vintage à Arles					\n				\n			\n								\n		\n						\n	\n\n\n\n				\n	\n\n				\n		\n												\n					\n						People Coiffure – Salon de coiffure à Arles					\n				\n			\n								\n		\n						\n	\n\n\n\n				\n	\n\n				\n		\n												\n					\n						Le Comptoir d’Italie\, restaurant italien et pizzeria à Arles					\n				\n			\n								\n		\n						\n	\n\n\n\n				\n	\n\n				\n		\n												\n					\n						Cuit Cuit\, rôtisserie et sommeil à Arles					\n				\n			\n								\n		\n						\n	\n\n\n\n				\n	\n\n				\n		\n												\n					\n						Addict Boutique\, Prêt à porter féminin à Arles					\n				\n			\n								\n		\n						\n	\n\n\n\n				\n	\n\n				\n		\n												\n					\n						De Natura Rerum – Librairie Antique et cave à bières & spiritueux\, à Arles					\n				\n			\n								\n		\n						\n	\n\n\n\n				\n	\n\n				\n		\n												\n					\n						L’Epicerie Gourmande\, Chocolaterie\, salon de thé\, épicerie fine à Arles					\n				\n			\n								\n		\n						\n	\n\n\n\n				\n	\n\n				\n		\n												\n					\n						Optique Rolland\, Opticien à Arles					\n				\n			\n								\n		\n						\n	\n\n\n\n				\n	\n\n				\n		\n												\n					\n						Camping Les Bois Flottés\, Hôtellerie de plein air à Salin de Giraud					\n				\n			\n								\n		\n						\n	\n\n\n\n				\n	\n\n				\n		\n												\n					\n						Bar du Marché\, bar à Arles					\n				\n			\n								\n		\n						\n	\n\n\n\n				\n	\n\n				\n		\n												\n					\n						Maison Floris\, Artisan glacier et salon de thé à Arles					\n				\n			\n								\n		\n						\n	\n\n\n\n				\n	\n\n				\n		\n												\n					\n						Cordonnerie Sauton\, Cordonnier\, clés et multiservices à Arles					\n				\n			\n								\n		\n						\n	\n\n\n\n				\n	\n\n				\n		\n												\n					\n						La Cave des Saveurs\, Caviste et épicerie fine à Arles					\n				\n			\n								\n		\n						\n	\n\n\n\n				\n	\n\n				\n		\n												\n					\n						Hôtel Arles Plaza\, Hôtel 4 étoiles à Arles					\n				\n			\n								\n		\n						\n	\n\n\n\n				\n	\n\n				\n		\n												\n					\n						La Meunerie – Restaurant et Social Club à Arles					\n				\n			\n								\n		\n						\n	\n\n\n\n				\n	\n\n				\n		\n												\n					\n						Progibat – Spécialiste Carrelage à Arles					\n				\n			\n								\n		\n						\n	\n\n\n\n				\n	\n\n				\n		\n												\n					\n						M pour la Vie\, Officiante laïque\, wedding-planer à Arles					\n				\n			\n								\n		\n						\n	\n\n\n\n				\n	\n\n				\n		\n												\n					\n						Le Bistrot Populaire\, Restaurant de coquillages à Arles					\n				\n			\n								\n		\n						\n	\n\n\n\n				\n	\n\n				\n		\n												\n					\n						Bijouterie Pinus à Arles					\n				\n			\n								\n		\n						\n	\n\n\n\n				\n	\n\n				\n		\n												\n					\n						La Fromagerie Arlésienne à Arles					\n				\n			\n								\n		\n						\n	\n\n\n\n				\n	\n\n				\n		\n												\n					\n						Atelier Milsix – Artisan bracelier à Arles					\n				\n			\n								\n		\n						\n	\n\n\n\n				\n	\n\n				\n		\n												\n					\n						L’Oriel Restaurant à Arles					\n				\n			\n								\n		\n						\n	\n\n\n\n				\n	\n\n				\n		\n												\n					\n						César Chauffeur privé\, VTC à Arles					\n				\n			\n								\n		\n						\n	\n\n\n\n				\n	\n\n				\n		\n												\n					\n						Le Cocorrico – Restaurant bistronomique à Arles					\n				\n			\n								\n		\n						\n	\n\n\n\n				\n	\n\n				\n		\n												\n					\n						Le Rodin – Hôtel 4* avec piscine à Arles					\n				\n			\n								\n		\n						\n	\n\n\n\n				\n	\n\n				\n		\n												\n					\n						La Boîte à Herbes – Producteur Bio à Arles					\n				\n			\n								\n		\n						\n	\n\n\n\n				\n	\n\n				\n		\n												\n					\n						Izakayan by Wafou\, Restaurant japonais à Arles					\n				\n			\n								\n		\n						\n	\n\n\n\n				\n	\n\n				\n		\n												\n					\n						Agnès M – Spécialiste Portes\, Fenêtres\, Volets à Arles					\n				\n			\n								\n		\n						\n	\n\n\n\n				\n	\n\n				\n		\n												\n					\n						La Carré de la Mariée à Arles					\n				\n			\n								\n		\n						\n	\n\n\n\n				\n	\n\n				\n		\n												\n					\n						Domaine Mas de Rey – Vigneron à Arles					\n				\n			\n								\n		\n						\n	\n\n\n\n				\n	\n\n				\n		\n												\n					\n						AATA\, Massage ayurvédique et Watsu à Arles					\n				\n			\n								\n		\n						\n	\n\n\n\n				\n	\n\n				\n		\n												\n					\n						Immobilière du Roy René\, Agence immo à Arles					\n				\n			\n								\n		\n						\n	\n\n\n\n				\n	\n\n				\n		\n												\n					\n						Emilie Fleuristerie\, Artisan-fleuriste à Arles					\n				\n			\n								\n		\n						\n	\n\n\n\n				\n	\n\n				\n		\n												\n					\n						La Boîte à Projets\, Conciergerie à Arles					\n				\n			\n								\n		\n						\n	\n\n\n\n				\n	\n\n				\n		\n												\n					\n						La Fabrique à Lunettes – Opticien Lunetier à Arles					\n				\n			\n								\n		\n						\n	\n\n\n\n				\n	\n\n				\n		\n												\n					\n						ZEN ET PAILLETTES – Maquilleuse et Esthéticienne à Arles					\n				\n			\n								\n		\n						\n	\n\n\n\n				\n	\n\n				\n		\n												\n					\n						LAIT DE JUMENT DE CAMARGUE – Élevage à Arles					\n				\n			\n								\n		\n						\n	\n\n\n\n				\n	\n\n				\n		\n												\n					\n						PALAIS DES CONGRÈS – Lieu de réception à Arles					\n				\n			\n								\n		\n						\n	\n\n\n\n				\n	\n\n				\n		\n												\n					\n						DYNAMITE WAKEPARK – Espace Wakeboard à Arles					\n				\n			\n								\n		\n						\n	\n\n\n\n				\n	\n\n				\n		\n												\n					\n						FRANCE FOTO – Photographe à Arles					\n				\n			\n								\n		\n						\n	\n\n\n\n				\n	\n\n				\n		\n												\n					\n						Terre de Beauté\, salon de coiffure et coloration végétale à Arles					\n				\n			\n								\n		\n						\n	\n\n\n\n				\n	\n\n				\n		\n												\n					\n						CAP MARCA – Brasserie artisanale de Camargue à Arles					\n				\n			\n								\n		\n						\n	\n\n\n\n				\n	\n\n				\n		\n												\n					\n						DELT’ALARM – Spécialiste Alarme et Vidéoprotection à Arles					\n				\n			\n								\n		\n						\n	\n\n\n\n				\n	\n\n				\n		\n												\n					\n						L’Epicier Moderne – Restaurant et bar à vin à Arles					\n				\n			\n								\n		\n						\n	\n\n\n\n				\n	\n\n				\n		\n												\n					\n						Musée Paul Ricard – Musée à Méjanes en Camargue					\n				\n			\n								\n		\n						\n	\n\n\n\n				\n	\n\n				\n		\n												\n					\n						La Bergerie – Restaurant à Méjanes en Camargue					\n				\n			\n								\n		\n						\n	\n\n\n\n				\n	\n\n				\n		\n												\n					\n						Aide Médical Confort\, Matériel Médical à Arles					\n				\n			\n								\n		\n						\n	\n\n\n\n				\n	\n\n				\n		\n												\n					\n						Provence et Evasions – Agence de voyages à Arles					\n				\n			\n								\n		\n						\n	\n\n\nRoussataïo ? La Roussataïo est un troupeau de plusieurs dizaines de juments accompagnées de leurs poulains traversant le village\, entouré par les gardians à cheval. Ce mot provient du provençal « rosso » qui signifie cheval non monté. La roussataïo traditionnelle correspond à la transhumance des troupeaux de juments et de leurs poulains d’une pâture à l’autre. \nPROCHAINS ÉVÉNEMENTS\nSUR ARLES & CAMARGUE Festival du Dessin 2026 à Arles18 avril à  10h00 >  17 mai à  18h00Festival Accordanses 2026 aux Saintes-Maries30 avril à  19h00 >  3 mai à  18h00Fête des Gardians 2026 à Arles1 mai à  9h00 >  17h00Fête de la Maïo 2026 à Fourques3 mai à  10h30 >  18h00Fête des Gitans 2026 aux Stes Maries de la Mer24 mai à  10h00 >  26 mai à  18h00Course de Satin 2026 au Mas des Bernacles7 juin à  10h00 >  18h00Soirée Canon 2026 au Mas de Valériole26 juin à  19h00 >  27 juin à  2h00Pegoulado 2026 à Arles3 juillet à  21h00 >  23h00America Méjanes 20264 juillet à  17h00 >  5 juillet à  18h00
URL:https://www.thegoodarles.com/good-time-agenda-sorties-et-evenements-pays-d-arles/roussataio-arles/
LOCATION:Arles\, Arles\, 13200\, France
CATEGORIES:à la une,Arles,Arles A LA UNE,Camargue,Festivités et Traditions du Pays d'Arles
ATTACH;FMTTYPE=image/jpeg:https://www.thegoodarles.com/wp-content/uploads/2021/10/cheval-camargue-roussataio-arles-2021.jpg
GEO:43.676341;4.627594
END:VEVENT
END:VCALENDAR