BEGIN:VCALENDAR
VERSION:2.0
PRODID:-//The Good Arles - ECPv6.15.15//NONSGML v1.0//EN
CALSCALE:GREGORIAN
METHOD:PUBLISH
X-WR-CALNAME:The Good Arles
X-ORIGINAL-URL:https://www.thegoodarles.com
X-WR-CALDESC:Évènements pour The Good Arles
REFRESH-INTERVAL;VALUE=DURATION:PT1H
X-Robots-Tag:noindex
X-PUBLISHED-TTL:PT1H
BEGIN:VTIMEZONE
TZID:Europe/Paris
BEGIN:DAYLIGHT
TZOFFSETFROM:+0100
TZOFFSETTO:+0200
TZNAME:CEST
DTSTART:20200329T010000
END:DAYLIGHT
BEGIN:STANDARD
TZOFFSETFROM:+0200
TZOFFSETTO:+0100
TZNAME:CET
DTSTART:20201025T010000
END:STANDARD
BEGIN:DAYLIGHT
TZOFFSETFROM:+0100
TZOFFSETTO:+0200
TZNAME:CEST
DTSTART:20210328T010000
END:DAYLIGHT
BEGIN:STANDARD
TZOFFSETFROM:+0200
TZOFFSETTO:+0100
TZNAME:CET
DTSTART:20211031T010000
END:STANDARD
BEGIN:DAYLIGHT
TZOFFSETFROM:+0100
TZOFFSETTO:+0200
TZNAME:CEST
DTSTART:20220327T010000
END:DAYLIGHT
BEGIN:STANDARD
TZOFFSETFROM:+0200
TZOFFSETTO:+0100
TZNAME:CET
DTSTART:20221030T010000
END:STANDARD
END:VTIMEZONE
BEGIN:VEVENT
DTSTART;TZID=Europe/Paris:20211030T140000
DTEND;TZID=Europe/Paris:20211030T180000
DTSTAMP:20260424T140829
CREATED:20210608T234640Z
LAST-MODIFIED:20211124T171759Z
UID:10000273-1635602400-1635616800@www.thegoodarles.com
SUMMARY:La Fête des Trous 2021 à la Verrerie Arles
DESCRIPTION:Fête des Trous 2021\nà la Verrerie Arles\n30 OCTOBRE 2021\nSortir de notre trou et tisser des liens ensemble\, c’est l’idée de la Fête des Trous !\n » Le TROU pour regarder le monde à l’envers et plus loin « \n » Le TROU comme un appel à rêver\, à réparer et renouer «  \nDernière Fête des Trous de l’année le samedi 30 octobre 2021La Fête des Trous est de retour une dernière fois en 2021 à la Verrerie ce samedi 30 octobre 2021\, dans l’esprit du tiers-lieu citoyen : joyeux et pour tous les publics.\nDe petits ateliers ludiques\, créatifs\, inspirants autour de la nature\, la musique\, l’image suivis par un spectacle\, un concert ou une projection ciné.\n\nLe programme détaillé de la fête des trous du samedi 30 octobre\nDébut des ateliers dès 14h\n\n> Relier les TROUs\nViens créer attrape-rêve\, mobiles et des tissages végétaux à partir d’éléments naturels et de recyclage ! L’occasion rêvée de se mettre en lien avec la nature et d’intégrer dans le paysage des installations ludiques\, aériennes et colorées.\nAvec NatiNath\, artiste plasticienne\n– tout public\, dès 3 ans accompagnés et 6 ans seuls\n– horaire au choix 14h OU 15h\n– 1 heure – réservation possible en ligne (max. 12 participants)\n– matériel fourni\n– reTROUver Arles\n> Hommage aux 40 ans du label UNESCO du patrimoine arlésien\, en accueillant\, pour un atelier participatif\, l’association « Les Amis du Vieil Arles » . Elle viendra nous parler de son actualité\, expliquer ses missions (apprendre\, valoriser\, agir) et bien sûr partager ses connaissances inépuisables de la « petite Rome des Gaules ». Laissons-nous enchanter !\nAvec Vincent Ramon\, Les Amis du Vieil Arles\n– tout public\, dès 10 ans\n– 2 heures – réservation en ligne (12 participants)\n\n> TROUbadours de l’autre bout du monde\nEnvie de voyager en chanson ? Grâce à Arthemusa\, évadons-nous en s’initiant aux chants du monde et à la polyphonie\, pour découvrir d’autres mélodies et des instruments inattendus \nPas besoin de savoir lire la musique ou de pratiquer le chant\, tou.te.s peuvent participer ! Entrez dans la ronde \navec Manon Ghobrial\, Arthemusa\n– tout public dès 13 ans\n– horaire au choix 14h OU 15h\n– 1 heure – réservation possible en ligne (max. 12 participants)\n\n\n> TROUsse à dessin\nEnvie d’explorer les jardins de la Verrerie avec votre pinceau ou vos crayons ?\nAprès s’être imprégné de l’atmosphère magique des lieux\, voilà l’occasion\, à partir d’une peinture ou d’un dessin qui vous inspire\, de créer votre propre interprétation accompagné.e par les conseils d’une experte en dessin et paysage.\navec Christina Ottaviano-Boury\, paysagiste Cesp\n– tout public\, dès 10 ans\n– 2 heures – réservation en ligne (max. 9 participants)\n– matériel fourni\, possibilité d’apporter son propre matériel de peinture ou dessin\n\n\n> TROUs de terre\nLe « bokashi »\, qu’es aco ? Une technique à base de microorganismes venue du Japon qui permet de composter ses déchets organiques en appartement\, sans ver\, sans entretien et sans odeur !\nVoici une occasion rare de découvrir concrètement ce procédé en préparant un bon terreau pour les grandes jardinières de la Verrerie\, de poser toutes vos questions à un spécialiste et de repartir avec votre propre seau à compost en matériaux recyclés \navec Emmanuel Chevillotte\, EM Inside\n– tout public\, dès 10 ans\n– 2 heures – réservation en ligne (max. 10 participants)\n– matériel fourni\n\n\n16h30 Goûter musical & poétique TROUvaille#4\nManon et Mina Ghobrial\, récital\n& Christine Lieutaud\, intermède poétique sur la musique de Sébastien Thon\nSuivons les musiciens et les poètes dans une déambulation au jardin !\nDevant la grande halle en majesté\, ce sont les sonates de Telemann et Mozart qui résonneront avec un duo de flûtes traversières.\nSous le pin\, un voyage poétique intimiste et musical ponctuera le chemin.\nContinuons au potager\, où une création originale mettra à l’honneur un duo d’instruments exceptionnels – le ney et le ngoni. Émerveillement garanti !\nEt pour le plaisir des papilles\, la mini guinguette de la Verrerie proposera gâteaux « maison » et boissons chaudes.\n– 1h\n– tout public\n– réservation en ligne\n\nInfos pratiques\n> Les ateliers/temps culturels sont ouverts sur inscription aux adhérent.e.s du tiers-lieu (adhésion libre à partir de 1€ – en ligne : http://bit.ly/3hv8KM6).\nEn fonction des activités\, ils sont destinés aux enfants (moins de 10 ans\, accompagnés) et/ou aux adultes.\n> Tarifs adhérents\nBillet Atelier : 5€ / pers.\nBillet Concert TROUvaille – au choix : solidaire 5€ / pers. – raisonnable 10€ / pers. – soutien 15€ / pers.\n> Réservation en ligne recommandée (jauges limitées)\n***https://www.helloasso.com/associations/vers-un-tiers-lieu-en-pays-d-arles/evenements/fete-des-trous-samedi-30-octobre-2021***\nRoues acceptées sur place\n> Adresse : chemin de la Verrerie\, 13200 Arles (quartier de Trinquetaille\, en face de l’Intermarché).\nAccès recommandé : à pied\, en bus (n°5 – arrêt Verrerie) ou en vélo. Peu de stationnement voiture à proximité.\n> Les consignes sanitaires seront appliquées\nLA FETE DES TROUS 2021\n4 samedis ludiques\, instructifs et joyeux pour petits et grandsRendez-vous du 19 juin au 28 août 2021 au tiers-lieu de la Verrerie à Arles pour la 2ème édition de la Fête des Trous avec 4 samedis joyeux\, ludiques\, pratiques et nature à vivre en famille. \nAu programme\, de petits ateliers ludiques\, créatifs\, inspirants autour de la nature\, la musique\, l’image en journée suivis chaque soir par un spectacle\, un concert ou une projection ciné. \nSous la fraicheur des arbres de la Verrerie\, on y apprendra à fabriquer de la peinture ou ses cosmétiques à base d’éléments naturels\, on s’initiera au Tai Chi ou au chant flamenco\, on découvrira l’archéologie dans un lieu historique où l’on a retrouvé des fresques romaines dignes de Pompéi\, on fera connaissance avec le monde des abeilles et on composera de la musique. Le tout en famille ( ou pas ) et dans une ambiance fidèle aux valeurs de partage et de convivialité qui ont inspiré la création de ce tiers-lieu unique à Arles \nCôté ventre\, chaque samedi sera agrémenté d’un pique-nique savoureux de la Guinguette\, comme un petit voyage dans l’assiette avec des produits biologiques et locaux\, inspiré par la thématique de la soirée. \nDécouvrez le programme date par date et réservez votre place* ! \n> samedi 19 juin \n> samedi 10 juillet \n> samedi 31 juillet \n> samedi 28 août ( à confirmer) \nInfos Pratiques\nLes ateliers et activités culturelles sont ouverts aux adhérents du tiers-lieu (adhésion libre à partir de 1€) sur inscription.\nEn fonction des activités\, ils sont destinés aux enfants de moins de 10 ans accompagnés et/ou aux adultes. \nTarifs adhérents : \nBillet Atelier : 5€ / pers.\nBillet Soirée TROUvaille – au choix : solidaire 5€ / pers. – raisonnable 10€ / pers. – soutien 15€ / pers. \nRéservation et inscription en ligne recommandées (jauges limitées) : lien disponible sur le programme détaillé de chaque date – Roues acceptées sur place \nAdresse : chemin de la Verrerie\, 13200 Arles (quartier de Trinquetaille\, en face de l’Intermarché).\nAccès recommandé : à pied\, en bus (n°5 – arrêt Verrerie) ou en vélo. Peu de stationnement voiture à proximité. \nLa Guinguette de la Verrerie\nAssiette salée à partir de 7€ et sucrée 3€\nDétail des menus disponible sur le programme de chaque date\nTablées de 6 pers. max et service à table (évolution en fonction des normes sanitaires) \nLes consignes sanitaires seront appliquées en fonction des normes en vigueur : respect des distances entre participants\, rappel des gestes de protection\, port du masque obligatoire ou recommandé\, gel hydroalcoolique à disposition sur place \nNOS BONNES ADRESSES\n SUR ARLES ET LA CAMARGUE\n  \n\n				\n	\n\n				\n		\n												\n					\n						Provence et Evasions – Agence de voyages à Arles					\n				\n			\n								\n		\n						\n	\n\n\n\n				\n	\n\n				\n		\n												\n					\n						Aide Médical Confort\, Matériel Médical à Arles					\n				\n			\n								\n		\n						\n	\n\n\n\n				\n	\n\n				\n		\n												\n					\n						La Bergerie – Restaurant à Méjanes en Camargue					\n				\n			\n								\n		\n						\n	\n\n\n\n				\n	\n\n				\n		\n												\n					\n						Musée Paul Ricard – Musée à Méjanes en Camargue					\n				\n			\n								\n		\n						\n	\n\n\n\n				\n	\n\n				\n		\n												\n					\n						L’Epicier Moderne – Restaurant et bar à vin à Arles					\n				\n			\n								\n		\n						\n	\n\n\n\n				\n	\n\n				\n		\n												\n					\n						DELT’ALARM – Spécialiste Alarme et Vidéoprotection à Arles					\n				\n			\n								\n		\n						\n	\n\n\n\n				\n	\n\n				\n		\n												\n					\n						CAP MARCA – Brasserie artisanale de Camargue à Arles					\n				\n			\n								\n		\n						\n	\n\n\n\n				\n	\n\n				\n		\n												\n					\n						Terre de Beauté\, salon de coiffure et coloration végétale à Arles					\n				\n			\n								\n		\n						\n	\n\n\n\n				\n	\n\n				\n		\n												\n					\n						FRANCE FOTO – Photographe à Arles					\n				\n			\n								\n		\n						\n	\n\n\n\n				\n	\n\n				\n		\n												\n					\n						DYNAMITE WAKEPARK – Espace Wakeboard à Arles					\n				\n			\n								\n		\n						\n	\n\n\n\n				\n	\n\n				\n		\n												\n					\n						PALAIS DES CONGRÈS – Lieu de réception à Arles					\n				\n			\n								\n		\n						\n	\n\n\n\n				\n	\n\n				\n		\n												\n					\n						LAIT DE JUMENT DE CAMARGUE – Élevage à Arles					\n				\n			\n								\n		\n						\n	\n\n\n\n				\n	\n\n				\n		\n												\n					\n						ZEN ET PAILLETTES – Maquilleuse et Esthéticienne à Arles					\n				\n			\n								\n		\n						\n	\n\n\n\n				\n	\n\n				\n		\n												\n					\n						La Fabrique à Lunettes – Opticien Lunetier à Arles					\n				\n			\n								\n		\n						\n	\n\n\n\n				\n	\n\n				\n		\n												\n					\n						La Boîte à Projets\, Conciergerie à Arles					\n				\n			\n								\n		\n						\n	\n\n\n\n				\n	\n\n				\n		\n												\n					\n						Emilie Fleuristerie\, Artisan-fleuriste à Arles					\n				\n			\n								\n		\n						\n	\n\n\n\n				\n	\n\n				\n		\n												\n					\n						Immobilière du Roy René\, Agence immo à Arles					\n				\n			\n								\n		\n						\n	\n\n\n\n				\n	\n\n				\n		\n												\n					\n						AATA\, Massage ayurvédique et Watsu à Arles					\n				\n			\n								\n		\n						\n	\n\n\n\n				\n	\n\n				\n		\n												\n					\n						Domaine Mas de Rey – Vigneron à Arles					\n				\n			\n								\n		\n						\n	\n\n\n\n				\n	\n\n				\n		\n												\n					\n						La Carré de la Mariée à Arles					\n				\n			\n								\n		\n						\n	\n\n\n\n				\n	\n\n				\n		\n												\n					\n						Agnès M – Spécialiste Portes\, Fenêtres\, Volets à Arles					\n				\n			\n								\n		\n						\n	\n\n\n\n				\n	\n\n				\n		\n												\n					\n						Izakayan by Wafou\, Restaurant japonais à Arles					\n				\n			\n								\n		\n						\n	\n\n\n\n				\n	\n\n				\n		\n												\n					\n						La Boîte à Herbes – Producteur Bio à Arles					\n				\n			\n								\n		\n						\n	\n\n\n\n				\n	\n\n				\n		\n												\n					\n						Le Rodin – Hôtel 4* avec piscine à Arles					\n				\n			\n								\n		\n						\n	\n\n\n\n				\n	\n\n				\n		\n												\n					\n						Le Cocorrico – Restaurant bistronomique à Arles
URL:https://www.thegoodarles.com/good-time-agenda-sorties-et-evenements-pays-d-arles/fete-des-trous-verrerie-arles/
LOCATION:La Verrerie\, Chemin de la Verrerie\, Arles\, 13200\, France
CATEGORIES:Arles,Art, Culture et Patrimoine,Camargue,Jeune Public,Musique, concerts,Nature et Environnement
ATTACH;FMTTYPE=image/jpeg:https://www.thegoodarles.com/wp-content/uploads/2021/06/fete-des-trous-2021-verrerie-arles-30-octobre.jpg
ORGANIZER;CN="Vers un tiers-lieu en pays d%E2%80%99Arles":MAILTO:contact@tierslieuarles.fr
END:VEVENT
END:VCALENDAR