BEGIN:VCALENDAR
VERSION:2.0
PRODID:-//The Good Arles - ECPv6.15.15//NONSGML v1.0//EN
CALSCALE:GREGORIAN
METHOD:PUBLISH
X-WR-CALNAME:The Good Arles
X-ORIGINAL-URL:https://www.thegoodarles.com
X-WR-CALDESC:Évènements pour The Good Arles
REFRESH-INTERVAL;VALUE=DURATION:PT1H
X-Robots-Tag:noindex
X-PUBLISHED-TTL:PT1H
BEGIN:VTIMEZONE
TZID:Europe/Paris
BEGIN:DAYLIGHT
TZOFFSETFROM:+0100
TZOFFSETTO:+0200
TZNAME:CEST
DTSTART:20230326T010000
END:DAYLIGHT
BEGIN:STANDARD
TZOFFSETFROM:+0200
TZOFFSETTO:+0100
TZNAME:CET
DTSTART:20231029T010000
END:STANDARD
BEGIN:DAYLIGHT
TZOFFSETFROM:+0100
TZOFFSETTO:+0200
TZNAME:CEST
DTSTART:20240331T010000
END:DAYLIGHT
BEGIN:STANDARD
TZOFFSETFROM:+0200
TZOFFSETTO:+0100
TZNAME:CET
DTSTART:20241027T010000
END:STANDARD
BEGIN:DAYLIGHT
TZOFFSETFROM:+0100
TZOFFSETTO:+0200
TZNAME:CEST
DTSTART:20250330T010000
END:DAYLIGHT
BEGIN:STANDARD
TZOFFSETFROM:+0200
TZOFFSETTO:+0100
TZNAME:CET
DTSTART:20251026T010000
END:STANDARD
END:VTIMEZONE
BEGIN:VEVENT
DTSTART;TZID=Europe/Paris:20241117T100000
DTEND;TZID=Europe/Paris:20241117T183000
DTSTAMP:20260421T142923
CREATED:20241108T133542Z
LAST-MODIFIED:20241114T002630Z
UID:10000548-1731837600-1731868200@www.thegoodarles.com
SUMMARY:Marché de Noël 2024 à Mas Blanc les Alpilles
DESCRIPTION:Marché de Noël 2024\nà Mas-Blanc-des-Alpilles MAS BLANC DES ALPILLESDimanche 17 Novembre 2024Rendez-vous le dimanche 17 novembre 2024 à Mas Blanc pour le marché de Noël organisé par les Parents d’élèves de la petite commune des Alpilles ! Créateurs et artisans du goût sont présents pour vous donner des idées de cadeaux et satisfaire vos papilles dans une belle ambiance de Noël. De nombreuses animations pour les enfants sont également prévues : photo avec le Père Noël\, ateliers créatifs et animations.\nBuvette et restauration sur place. \nNOS BONNES ADRESSES DANS LES ALPILLES\n				\n	\n\n				\n		\n												\n					\n						RYTHM’ALPILLES – Guide rando et vélo Alpilles/Camargue					\n				\n			\n								\n		\n						\n	\n\n\n\n				\n	\n\n				\n		\n												\n					\n						De l’Olivier au Couteau\, Artisan Créateur à Saint Rémy de Provence					\n				\n			\n								\n		\n						\n	\n\n\n\n				\n	\n\n				\n		\n												\n					\n						Equilibre et Vous\, Salle de sport et coaching sportif à Saint Rémy de Pce					\n				\n			\n								\n		\n						\n	\n\n\n\n				\n	\n\n				\n		\n												\n					\n						DOMAINE DU DEVES – Vignoble Bio à Noves					\n				\n			\n								\n		\n						\n	\n\n\n\n				\n	\n\n				\n		\n												\n					\n						MAS DE GOURGONNIER – Vignoble Bio à Mouriès					\n				\n			\n								\n		\n						\n	\n\n\n\n				\n	\n\n				\n		\n												\n					\n						LA LAVANDIÈRE ST RÉMOISE à Saint Rémy de Pce					\n				\n			\n								\n		\n						\n	\n\n\n\n				\n	\n\n				\n		\n												\n					\n						PAMPA – Boutique Déco à Saint Rémy de Pce					\n				\n			\n								\n		\n						\n	\n\n\n\n				\n	\n\n				\n		\n												\n					\n						L’Epicerie Heureuse – Epicerie vrac & locavore à Saint Rémy de Pce					\n				\n			\n								\n		\n						\n	\n\n\n\n				\n	\n\n				\n		\n												\n					\n						Agence KHAKI – Architecte d’intérieur à Saint Rémy de Pce					\n				\n			\n								\n		\n						\n	\n\n\n\n				\n	\n\n				\n		\n												\n					\n						Hameau des Baux – Hôtel 4*\, Restaurant & Guingette à Paradou					\n				\n			\n								\n		\n						\n	\n\n\n\n				\n	\n\n				\n		\n												\n					\n						Boutique Baumanière aux Baux de Provence					\n				\n			\n								\n		\n						\n	\n\n\n\n				\n	\n\n				\n		\n												\n					\n						Moulin à huile du Mas Saint Jean à Fontvieille					\n				\n			\n								\n		\n						\n	\n\n\n\n				\n	\n\n				\n		\n												\n					\n						Olivades\, Créateur et imprimeur de tissus provençaux à Saint Étienne du Grès					\n				\n			\n								\n		\n						\n	\n\n\n\n				\n	\n\n				\n		\n												\n					\n						Les Jardins de Cidamos\, Maraîcher Bio à Fontvieille					\n				\n			\n								\n		\n						\n	\n\n\n\n				\n	\n\n				\n		\n												\n					\n						Club Entrepreneurs Terre de Provence à Châteaurenard					\n				\n			\n								\n		\n						\n	\n\n\n\n				\n	\n\n				\n		\n												\n					\n						La Ferme du Ségalon\, Fromages de chèvre fermiers à Graveson					\n				\n			\n								\n		\n						\n	\n\n\n\n				\n	\n\n				\n		\n												\n					\n						Maisons Renov\, Rénovation de maisons à Saint Rémy de Provence					\n				\n			\n								\n		\n						\n	\n\n\n\n				\n	\n\n				\n		\n												\n					\n						Esprit Tendance\, Mobilier d’extérieur et Déco à Saint Rémy de Provence					\n				\n			\n								\n		\n						\n	\n\n\n\n				\n	\n\n				\n		\n												\n					\n						Arkansas\, boutique prêt à porter à Saint Rémy de Provence					\n				\n			\n								\n		\n						\n	\n\n\n\n				\n	\n\n				\n		\n												\n					\n						Les 2 Rives\, producteur-vente directe de viandes bio à Fontvieille					\n				\n			\n								\n		\n						\n	\n\n\n\n				\n	\n\n				\n		\n												\n					\n						Le Parc des Cordes\, restaurant à Fontvieille					\n				\n			\n								\n		\n						\n	\n\n\n\n				\n	\n\n				\n		\n												\n					\n						Azerty Numérique\, Dépannage Informatique et Téléphonie à Saint Rémy de Provence					\n				\n			\n								\n		\n						\n	\n\n\n\n				\n	\n\n				\n		\n												\n					\n						Pistou et Romarin – Traiteur à Plan d’Orgon					\n				\n			\n								\n		\n						\n	\n\n\n\n				\n	\n\n				\n		\n												\n					\n						Fiesta Dreams – Articles de fêtes et déguisements à Eyguières					\n				\n			\n								\n		\n						\n	\n\n\n\n				\n	\n\n				\n		\n												\n					\n						Edith Luchesi – Coach Sportif à Saint Rémy de Provence – Alpilles					\n				\n			\n								\n		\n						\n	\n\n\n\n				\n	\n\n				\n		\n												\n					\n						Tommy Magere Peinture Décoration – Artisan Peintre à Saint Rémy de Provence					\n				\n			\n								\n		\n						\n	\n\n\n\n				\n	\n\n				\n		\n												\n					\n						Chez Marie Broderies – Couture\, mercerie\, prêt à porter à Fontvieille					\n				\n			\n								\n		\n						\n	\n\n\n\n				\n	\n\n				\n		\n												\n					\n						Grès Vin – Caviste à Saint Etienne du Grès					\n				\n			\n								\n		\n						\n	\n\n\n\n				\n	\n\n				\n		\n												\n					\n						Alpilles Bio – Magasin Bio à Saint Rémy de Provence					\n				\n			\n								\n		\n						\n	\n\n\n\n				\n	\n\n				\n		\n												\n					\n						Ghostzone\, centre de paintball et lasergame					\n				\n			\n								\n		\n						\n	\n\n\nPROGRAMME\nMARCHE DE NOEL 2024\nà MAS BLANC LES ALPILLES Quand : Dimanche 17 novembre 2024 de 10h à 18h30 \n\n\n\n\n\nDe nombreux exposants\, visite du Père Noël\, ateliers et animations\, Food-Trucks..\nSalle des fêtes : marché des artisans\nRue Limberton : marché des métiers de bouche et des jeunes créateurs.\nPlace Limberton : ferme pédagogique.\nPlace de la mairie : jeux gratuits et offerts par la mairie de Mas Blanc des Alpilles\, jeux payants\, structures gonflables payantes\, Food trucks.\nBibliothèque : lecture de deux contes de Noël à 11h et 15h30. \nMais aussi bonne humeur et sourires avec Présence du père Noël\, Chants de Noël\, Calèche… \nPhotographe avec le père Noël : animation payante. \n\n\n\n\n\n\n\n\nPOUR NE RIEN RATER\nDE CES FÊTES DE NOËL 2024 PROGRAMME NÖEL 2024 EN PAYS D’ARLESPROCHAINS ÉVÉNEMENTS SUR EYRAGUES\nET LES ALPILLES Picasso 2026 aux Carrières des Lumières des Baux de Pce13 février 2026 à  10h00 >  3 janvier 2027 à  18h00Journées des Traditions Provençales 2026 à Châteaurenard26 mars à  11h00 >  26 avril à  19h00Féria des Tauromachies 2026 à Saint Étienne du Grès14 mai à  11h00 >  15 mai à  23h55Fête de la Transhumance 2026 à Saint Rémy de Pce25 mai à  10h30 >  19h00America Méjanes 20264 juillet à  17h00 >  5 juillet à  18h00NOS BONNES ADRESSES DANS LES ALPILLES\n				\n	\n\n				\n		\n												\n					\n						Ghostzone\, centre de paintball et lasergame					\n				\n			\n								\n		\n						\n	\n\n\n\n				\n	\n\n				\n		\n												\n					\n						Alpilles Bio – Magasin Bio à Saint Rémy de Provence					\n				\n			\n								\n		\n						\n	\n\n\n\n				\n	\n\n				\n		\n												\n					\n						Grès Vin – Caviste à Saint Etienne du Grès					\n				\n			\n								\n		\n						\n	\n\n\n\n				\n	\n\n				\n		\n												\n					\n						Chez Marie Broderies – Couture\, mercerie\, prêt à porter à Fontvieille					\n				\n			\n								\n		\n						\n	\n\n\n\n				\n	\n\n				\n		\n												\n					\n						Tommy Magere Peinture Décoration – Artisan Peintre à Saint Rémy de Provence					\n				\n			\n								\n		\n						\n	\n\n\n\n				\n	\n\n				\n		\n												\n					\n						Edith Luchesi – Coach Sportif à Saint Rémy de Provence – Alpilles					\n				\n			\n								\n		\n						\n	\n\n\n\n				\n	\n\n				\n		\n												\n					\n						Fiesta Dreams – Articles de fêtes et déguisements à Eyguières					\n				\n			\n								\n		\n						\n	\n\n\n\n				\n	\n\n				\n		\n												\n					\n						Pistou et Romarin – Traiteur à Plan d’Orgon					\n				\n			\n								\n		\n						\n	\n\n\n\n				\n	\n\n				\n		\n												\n					\n						Azerty Numérique\, Dépannage Informatique et Téléphonie à Saint Rémy de Provence					\n				\n			\n								\n		\n						\n	\n\n\n\n				\n	\n\n				\n		\n												\n					\n						Le Parc des Cordes\, restaurant à Fontvieille					\n				\n			\n								\n		\n						\n	\n\n\n\n				\n	\n\n				\n		\n												\n					\n						Les 2 Rives\, producteur-vente directe de viandes bio à Fontvieille					\n				\n			\n								\n		\n						\n	\n\n\n\n				\n	\n\n				\n		\n												\n					\n						Arkansas\, boutique prêt à porter à Saint Rémy de Provence					\n				\n			\n								\n		\n						\n	\n\n\n\n				\n	\n\n				\n		\n												\n					\n						Esprit Tendance\, Mobilier d’extérieur et Déco à Saint Rémy de Provence					\n				\n			\n								\n		\n						\n	\n\n\n\n				\n	\n\n				\n		\n												\n					\n						Maisons Renov\, Rénovation de maisons à Saint Rémy de Provence					\n				\n			\n								\n		\n						\n	\n\n\n\n				\n	\n\n				\n		\n												\n					\n						La Ferme du Ségalon\, Fromages de chèvre fermiers à Graveson					\n				\n			\n								\n		\n						\n	\n\n\n\n				\n	\n\n				\n		\n												\n					\n						Club Entrepreneurs Terre de Provence à Châteaurenard					\n				\n			\n								\n		\n						\n	\n\n\n\n				\n	\n\n				\n		\n												\n					\n						Les Jardins de Cidamos\, Maraîcher Bio à Fontvieille					\n				\n			\n								\n		\n						\n	\n\n\n\n				\n	\n\n				\n		\n												\n					\n						Olivades\, Créateur et imprimeur de tissus provençaux à Saint Étienne du Grès					\n				\n			\n								\n		\n						\n	\n\n\n\n				\n	\n\n				\n		\n												\n					\n						Moulin à huile du Mas Saint Jean à Fontvieille					\n				\n			\n								\n		\n						\n	\n\n\n\n				\n	\n\n				\n		\n												\n					\n						Boutique Baumanière aux Baux de Provence					\n				\n			\n								\n		\n						\n	\n\n\n\n				\n	\n\n				\n		\n												\n					\n						Hameau des Baux – Hôtel 4*\, Restaurant & Guingette à Paradou					\n				\n			\n								\n		\n						\n	\n\n\n\n				\n	\n\n				\n		\n												\n					\n						Agence KHAKI – Architecte d’intérieur à Saint Rémy de Pce					\n				\n			\n								\n		\n						\n	\n\n\n\n				\n	\n\n				\n		\n												\n					\n						L’Epicerie Heureuse – Epicerie vrac & locavore à Saint Rémy de Pce					\n				\n			\n								\n		\n						\n	\n\n\n\n				\n	\n\n				\n		\n												\n					\n						PAMPA – Boutique Déco à Saint Rémy de Pce					\n				\n			\n								\n		\n						\n	\n\n\n\n				\n	\n\n				\n		\n												\n					\n						LA LAVANDIÈRE ST RÉMOISE à Saint Rémy de Pce					\n				\n			\n								\n		\n						\n	\n\n\n\n				\n	\n\n				\n		\n												\n					\n						MAS DE GOURGONNIER – Vignoble Bio à Mouriès					\n				\n			\n								\n		\n						\n	\n\n\n\n				\n	\n\n				\n		\n												\n					\n						DOMAINE DU DEVES – Vignoble Bio à Noves					\n				\n			\n								\n		\n						\n	\n\n\n\n				\n	\n\n				\n		\n												\n					\n						Equilibre et Vous\, Salle de sport et coaching sportif à Saint Rémy de Pce					\n				\n			\n								\n		\n						\n	\n\n\n\n				\n	\n\n				\n		\n												\n					\n						De l’Olivier au Couteau\, Artisan Créateur à Saint Rémy de Provence					\n				\n			\n								\n		\n						\n	\n\n\n\n				\n	\n\n				\n		\n												\n					\n						RYTHM’ALPILLES – Guide rando et vélo Alpilles/Camargue
URL:https://www.thegoodarles.com/good-time-agenda-sorties-et-evenements-pays-d-arles/marche-noel-mas-blanc-alpilles/
LOCATION:Mas Blanc des Alpilles\, Mas Blanc des Alpilles\, 13057\, France
CATEGORIES:à la une,Alpilles,Marchés, foires, salons et festivals,Mas Blanc des Alpilles,Noël
ATTACH;FMTTYPE=image/jpeg:https://www.thegoodarles.com/wp-content/uploads/2023/11/marche-noel-2024-mas-blanc-alpilles-programme-1.jpg
END:VEVENT
END:VCALENDAR