BEGIN:VCALENDAR
VERSION:2.0
PRODID:-//The Good Arles - ECPv6.15.15//NONSGML v1.0//EN
CALSCALE:GREGORIAN
METHOD:PUBLISH
X-WR-CALNAME:The Good Arles
X-ORIGINAL-URL:https://www.thegoodarles.com
X-WR-CALDESC:Évènements pour The Good Arles
REFRESH-INTERVAL;VALUE=DURATION:PT1H
X-Robots-Tag:noindex
X-PUBLISHED-TTL:PT1H
BEGIN:VTIMEZONE
TZID:Europe/Paris
BEGIN:DAYLIGHT
TZOFFSETFROM:+0100
TZOFFSETTO:+0200
TZNAME:CEST
DTSTART:20230326T010000
END:DAYLIGHT
BEGIN:STANDARD
TZOFFSETFROM:+0200
TZOFFSETTO:+0100
TZNAME:CET
DTSTART:20231029T010000
END:STANDARD
BEGIN:DAYLIGHT
TZOFFSETFROM:+0100
TZOFFSETTO:+0200
TZNAME:CEST
DTSTART:20240331T010000
END:DAYLIGHT
BEGIN:STANDARD
TZOFFSETFROM:+0200
TZOFFSETTO:+0100
TZNAME:CET
DTSTART:20241027T010000
END:STANDARD
BEGIN:DAYLIGHT
TZOFFSETFROM:+0100
TZOFFSETTO:+0200
TZNAME:CEST
DTSTART:20250330T010000
END:DAYLIGHT
BEGIN:STANDARD
TZOFFSETFROM:+0200
TZOFFSETTO:+0100
TZNAME:CET
DTSTART:20251026T010000
END:STANDARD
END:VTIMEZONE
BEGIN:VEVENT
DTSTART;TZID=Europe/Paris:20241006T110000
DTEND;TZID=Europe/Paris:20241006T170000
DTSTAMP:20260422T115404
CREATED:20240918T092537Z
LAST-MODIFIED:20240918T092835Z
UID:10000632-1728212400-1728234000@www.thegoodarles.com
SUMMARY:Ferrade de la Saint-Éloi de Graveson
DESCRIPTION:FERRADE DE LA SAINT ÉLOI de GRAVESONMANADE CAILLAN – MAILLANEDimanche 6 octobre 2024 – 11hLa Confrérie de la Saint-Éloi de Graveson vous donne rendez-vous pour leur traditionnelle ferrade le dimanche 6 octobre 2024 à partir de 11h00 à la Manade Caillan (Maillane). \nPossibilité de restauration sur place :\nPrix du repas 17€00\n-Soupe au Pistou\n-Fromage / Salade\n-Dessert\n-Vin et café compris \nMenu enfants (-12ans)\nSaucisses/Chips/Fromage Dessert 5€ \nRéservation obligatoire :\njusqu’au 2 octobre au magasin de vêtements « Côté Sud » (16 cours national à Graveson) \nRenseignements : 06.48.09.48.34 \nNOS BONNES ADRESSES SUR GRAVESON\nET ALENTOUR \n				\n	\n\n				\n		\n												\n					\n						DOMAINE DU DEVES – Vignoble Bio à Noves					\n				\n			\n								\n		\n						\n	\n\n\nPROCHAINS ÉVÉNEMENTS\nSUR GRAVESON ET ALENTOUR Picasso 2026 aux Carrières des Lumières des Baux de Pce13 février 2026 à  10h00 >  3 janvier 2027 à  18h00Journées des Traditions Provençales 2026 à Châteaurenard26 mars à  11h00 >  26 avril à  19h00Féria des Tauromachies 2026 à Saint Étienne du Grès14 mai à  11h00 >  15 mai à  23h55Fête de la Transhumance 2026 à Saint Rémy de Pce25 mai à  10h30 >  19h00America Méjanes 20264 juillet à  17h00 >  5 juillet à  18h00
URL:https://www.thegoodarles.com/good-time-agenda-sorties-et-evenements-pays-d-arles/ferrade-saint-eloi-graveson/
LOCATION:Manade Caillan\, Route de la Massane\, Maillane\, 13910
CATEGORIES:Festivités et Traditions du Pays d'Arles,Gastronomie,Graveson,Saint Eloi,Val Durance
ATTACH;FMTTYPE=image/png:https://www.thegoodarles.com/wp-content/uploads/2024/09/FERRADE-SAINT-ELOI-2024-GRAVESON.png
END:VEVENT
END:VCALENDAR