BEGIN:VCALENDAR
VERSION:2.0
PRODID:-//The Good Arles - ECPv6.15.15//NONSGML v1.0//EN
CALSCALE:GREGORIAN
METHOD:PUBLISH
X-WR-CALNAME:The Good Arles
X-ORIGINAL-URL:https://www.thegoodarles.com
X-WR-CALDESC:Évènements pour The Good Arles
REFRESH-INTERVAL;VALUE=DURATION:PT1H
X-Robots-Tag:noindex
X-PUBLISHED-TTL:PT1H
BEGIN:VTIMEZONE
TZID:Europe/Paris
BEGIN:DAYLIGHT
TZOFFSETFROM:+0100
TZOFFSETTO:+0200
TZNAME:CEST
DTSTART:20240331T010000
END:DAYLIGHT
BEGIN:STANDARD
TZOFFSETFROM:+0200
TZOFFSETTO:+0100
TZNAME:CET
DTSTART:20241027T010000
END:STANDARD
BEGIN:DAYLIGHT
TZOFFSETFROM:+0100
TZOFFSETTO:+0200
TZNAME:CEST
DTSTART:20250330T010000
END:DAYLIGHT
BEGIN:STANDARD
TZOFFSETFROM:+0200
TZOFFSETTO:+0100
TZNAME:CET
DTSTART:20251026T010000
END:STANDARD
BEGIN:DAYLIGHT
TZOFFSETFROM:+0100
TZOFFSETTO:+0200
TZNAME:CEST
DTSTART:20260329T010000
END:DAYLIGHT
BEGIN:STANDARD
TZOFFSETFROM:+0200
TZOFFSETTO:+0100
TZNAME:CET
DTSTART:20261025T010000
END:STANDARD
END:VTIMEZONE
BEGIN:VEVENT
DTSTART;TZID=Europe/Paris:20250718T120000
DTEND;TZID=Europe/Paris:20250723T230000
DTSTAMP:20260421T223100
CREATED:20250709T144400Z
LAST-MODIFIED:20250709T154214Z
UID:10000332-1752840000-1753311600@www.thegoodarles.com
SUMMARY:Fête de la Saint Eloi 2025 à Maillane
DESCRIPTION:Fête Saint Éloi 2025\nde Maillane MAILLANE18>23 Juillet 2025La fête des laboureurs Rdv du 18 au 23 juillet 2025 à Maillane pour la Fête de la Saint Eloi. 6 jours de fête traditionnelle en l’honneur des laboureurs et leur patron Saint Eloi. \nA NE PAS RATER > le défilé et la course de la charrette dimanche 20 juillet  à 11h30 dans le centre du village. Sûrement la charrette la plus impressionnante du Pays d’Arles avec celle de Boulbon ! \nCOURSE DE LA CHARRETTE EN VIDEONOS BONNES ADRESSES\nSUR MAILLANE ET LES ALPILLES \n				\n	\n\n				\n		\n												\n					\n						RYTHM’ALPILLES – Guide rando et vélo Alpilles/Camargue					\n				\n			\n								\n		\n						\n	\n\n\n\n				\n	\n\n				\n		\n												\n					\n						De l’Olivier au Couteau\, Artisan Créateur à Saint Rémy de Provence					\n				\n			\n								\n		\n						\n	\n\n\n\n				\n	\n\n				\n		\n												\n					\n						Equilibre et Vous\, Salle de sport et coaching sportif à Saint Rémy de Pce					\n				\n			\n								\n		\n						\n	\n\n\n\n				\n	\n\n				\n		\n												\n					\n						DOMAINE DU DEVES – Vignoble Bio à Noves					\n				\n			\n								\n		\n						\n	\n\n\n\n				\n	\n\n				\n		\n												\n					\n						MAS DE GOURGONNIER – Vignoble Bio à Mouriès					\n				\n			\n								\n		\n						\n	\n\n\n\n				\n	\n\n				\n		\n												\n					\n						LA LAVANDIÈRE ST RÉMOISE à Saint Rémy de Pce					\n				\n			\n								\n		\n						\n	\n\n\n\n				\n	\n\n				\n		\n												\n					\n						PAMPA – Boutique Déco à Saint Rémy de Pce					\n				\n			\n								\n		\n						\n	\n\n\n\n				\n	\n\n				\n		\n												\n					\n						L’Epicerie Heureuse – Epicerie vrac & locavore à Saint Rémy de Pce					\n				\n			\n								\n		\n						\n	\n\n\n\n				\n	\n\n				\n		\n												\n					\n						Agence KHAKI – Architecte d’intérieur à Saint Rémy de Pce					\n				\n			\n								\n		\n						\n	\n\n\n\n				\n	\n\n				\n		\n												\n					\n						Hameau des Baux – Hôtel 4*\, Restaurant & Guingette à Paradou					\n				\n			\n								\n		\n						\n	\n\n\n\n				\n	\n\n				\n		\n												\n					\n						Boutique Baumanière aux Baux de Provence					\n				\n			\n								\n		\n						\n	\n\n\n\n				\n	\n\n				\n		\n												\n					\n						Moulin à huile du Mas Saint Jean à Fontvieille					\n				\n			\n								\n		\n						\n	\n\n\n\n				\n	\n\n				\n		\n												\n					\n						Olivades\, Créateur et imprimeur de tissus provençaux à Saint Étienne du Grès					\n				\n			\n								\n		\n						\n	\n\n\n\n				\n	\n\n				\n		\n												\n					\n						Les Jardins de Cidamos\, Maraîcher Bio à Fontvieille					\n				\n			\n								\n		\n						\n	\n\n\n\n				\n	\n\n				\n		\n												\n					\n						Club Entrepreneurs Terre de Provence à Châteaurenard					\n				\n			\n								\n		\n						\n	\n\n\n\n				\n	\n\n				\n		\n												\n					\n						La Ferme du Ségalon\, Fromages de chèvre fermiers à Graveson					\n				\n			\n								\n		\n						\n	\n\n\n\n				\n	\n\n				\n		\n												\n					\n						Maisons Renov\, Rénovation de maisons à Saint Rémy de Provence					\n				\n			\n								\n		\n						\n	\n\n\n\n				\n	\n\n				\n		\n												\n					\n						Esprit Tendance\, Mobilier d’extérieur et Déco à Saint Rémy de Provence					\n				\n			\n								\n		\n						\n	\n\n\n\n				\n	\n\n				\n		\n												\n					\n						Arkansas\, boutique prêt à porter à Saint Rémy de Provence					\n				\n			\n								\n		\n						\n	\n\n\n\n				\n	\n\n				\n		\n												\n					\n						Les 2 Rives\, producteur-vente directe de viandes bio à Fontvieille					\n				\n			\n								\n		\n						\n	\n\n\n\n				\n	\n\n				\n		\n												\n					\n						Le Parc des Cordes\, restaurant à Fontvieille					\n				\n			\n								\n		\n						\n	\n\n\n\n				\n	\n\n				\n		\n												\n					\n						Azerty Numérique\, Dépannage Informatique et Téléphonie à Saint Rémy de Provence					\n				\n			\n								\n		\n						\n	\n\n\n\n				\n	\n\n				\n		\n												\n					\n						Pistou et Romarin – Traiteur à Plan d’Orgon					\n				\n			\n								\n		\n						\n	\n\n\n\n				\n	\n\n				\n		\n												\n					\n						Fiesta Dreams – Articles de fêtes et déguisements à Eyguières					\n				\n			\n								\n		\n						\n	\n\n\n\n				\n	\n\n				\n		\n												\n					\n						Edith Luchesi – Coach Sportif à Saint Rémy de Provence – Alpilles					\n				\n			\n								\n		\n						\n	\n\n\n\n				\n	\n\n				\n		\n												\n					\n						Tommy Magere Peinture Décoration – Artisan Peintre à Saint Rémy de Provence					\n				\n			\n								\n		\n						\n	\n\n\n\n				\n	\n\n				\n		\n												\n					\n						Chez Marie Broderies – Couture\, mercerie\, prêt à porter à Fontvieille					\n				\n			\n								\n		\n						\n	\n\n\n\n				\n	\n\n				\n		\n												\n					\n						Grès Vin – Caviste à Saint Etienne du Grès					\n				\n			\n								\n		\n						\n	\n\n\n\n				\n	\n\n				\n		\n												\n					\n						Alpilles Bio – Magasin Bio à Saint Rémy de Provence					\n				\n			\n								\n		\n						\n	\n\n\n\n				\n	\n\n				\n		\n												\n					\n						Ghostzone\, centre de paintball et lasergame					\n				\n			\n								\n		\n						\n	\n\n\nPROGRAMME\nFête de la Saint Eloi 2025\nà Maillane > Vendredi 18 Juillet\n19h : Abrivado devant le Centre Frederi Mistral\n20h : Apéritif et Grillades\n22h : Bodega des Savants avec DJ Lucas et Mathéo au Centre Fréderic Mistral. \n> Samedi 19 Juillet\n12h : Salve d’artillerie\, tour de ville avec les fifres et les tambours. Aubade aux prieurs\n13h : Déjeuner des charretiers li double au café du progrès\n19h : Arrivée de la Carreto Ramado\n20h30 : Repas place des Cafés. Daube sur réservation\n22h30 : Orchestre Éric Roy\n23h : Défilé aux lampions et aubade à Saint Éloi devant l’église. \n> Dimanche 20 Juillet\n9h45 : Grande Messe\n11h : Bénédiction des chevaux et de la Carreto Ramado\n11h30 : Course de la Carreto Ramado\n12h30 : Desarnescage et apéritif\n13h : Repas de la confrérie au Centre Fréderic Mistral. Grillades\n19h: Apéritif animé par « Cocktail de nuit »\n20h30 : Moules Frites.\n22h : Concert de « Cocktail de nuit » \n> Lundi 21 Juillet\n9h : Déjeuner à la manade Caillan (participation 5€)\n11h : Abrivado longo. départ manade Caillan. Avec les manades Colombet et Conti\n12h30 : Apéritif musical Place des cafés\n15h : Concours de boules. 3J-2B\n18h30 : Bandido devant le centre Fréderic Mistral. Manades Colombet et Conti\n21h : Concert de New Zik \n> Mardi 22 Juillet\n11h : Encierro devant le Centre Fréderic Mistral\n13h30 : Aïoli sous le préau du Centre Fréderic Mistral\n19h30 : Apéritif animé par le « Peña Camargua »\n22h : Concert du groupe « Méphisto » Place Frédéric Mistral. \n> Mercredi 23 Juillet\n10h30 : Apéro Mousse pour les enfants place des Cafés\n19h00 : Apéritif animé par la « Peña du Grès »\n20h30 : Pistou + concert de l’orchestre Cocktail de Nuit\n23h : Feux d’artifice de clôture.( si les conditions météorologiques le permettent). \nLes réservations pour les repas se font à l’Office de Tourisme\, au Café du Progrès et au Comité des Fêtes à Maillane. \nLa Fête de la Saint Eloi ( Sant Aloi en provençal ) La Fête de la Saint Eloi est une tradition très ancrée dans les villages du nord des Alpilles et du Val de Durance. Avec ses célèbres courses de la Carreto Ramado\, elle attire les foules dans chaque village où elle a lieu. \nPour en savoir plus PROCHAINS ÉVÉNEMENTS\nA MAILLANE ET DANS LES ALPILLES Picasso 2026 aux Carrières des Lumières des Baux de Pce13 février 2026 à  10h00 >  3 janvier 2027 à  18h00Journées des Traditions Provençales 2026 à Châteaurenard26 mars à  11h00 >  26 avril à  19h00Féria des Tauromachies 2026 à Saint Étienne du Grès14 mai à  11h00 >  15 mai à  23h55Fête de la Transhumance 2026 à Saint Rémy de Pce25 mai à  10h30 >  19h00America Méjanes 20264 juillet à  17h00 >  5 juillet à  18h00NOS BONNES ADRESSES\nSUR MAILLANE ET LES ALPILLES \n				\n	\n\n				\n		\n												\n					\n						Ghostzone\, centre de paintball et lasergame					\n				\n			\n								\n		\n						\n	\n\n\n\n				\n	\n\n				\n		\n												\n					\n						Alpilles Bio – Magasin Bio à Saint Rémy de Provence					\n				\n			\n								\n		\n						\n	\n\n\n\n				\n	\n\n				\n		\n												\n					\n						Grès Vin – Caviste à Saint Etienne du Grès					\n				\n			\n								\n		\n						\n	\n\n\n\n				\n	\n\n				\n		\n												\n					\n						Chez Marie Broderies – Couture\, mercerie\, prêt à porter à Fontvieille					\n				\n			\n								\n		\n						\n	\n\n\n\n				\n	\n\n				\n		\n												\n					\n						Tommy Magere Peinture Décoration – Artisan Peintre à Saint Rémy de Provence					\n				\n			\n								\n		\n						\n	\n\n\n\n				\n	\n\n				\n		\n												\n					\n						Edith Luchesi – Coach Sportif à Saint Rémy de Provence – Alpilles					\n				\n			\n								\n		\n						\n	\n\n\n\n				\n	\n\n				\n		\n												\n					\n						Fiesta Dreams – Articles de fêtes et déguisements à Eyguières					\n				\n			\n								\n		\n						\n	\n\n\n\n				\n	\n\n				\n		\n												\n					\n						Pistou et Romarin – Traiteur à Plan d’Orgon					\n				\n			\n								\n		\n						\n	\n\n\n\n				\n	\n\n				\n		\n												\n					\n						Azerty Numérique\, Dépannage Informatique et Téléphonie à Saint Rémy de Provence					\n				\n			\n								\n		\n						\n	\n\n\n\n				\n	\n\n				\n		\n												\n					\n						Le Parc des Cordes\, restaurant à Fontvieille					\n				\n			\n								\n		\n						\n	\n\n\n\n				\n	\n\n				\n		\n												\n					\n						Les 2 Rives\, producteur-vente directe de viandes bio à Fontvieille					\n				\n			\n								\n		\n						\n	\n\n\n\n				\n	\n\n				\n		\n												\n					\n						Arkansas\, boutique prêt à porter à Saint Rémy de Provence					\n				\n			\n								\n		\n						\n	\n\n\n\n				\n	\n\n				\n		\n												\n					\n						Esprit Tendance\, Mobilier d’extérieur et Déco à Saint Rémy de Provence					\n				\n			\n								\n		\n						\n	\n\n\n\n				\n	\n\n				\n		\n												\n					\n						Maisons Renov\, Rénovation de maisons à Saint Rémy de Provence					\n				\n			\n								\n		\n						\n	\n\n\n\n				\n	\n\n				\n		\n												\n					\n						La Ferme du Ségalon\, Fromages de chèvre fermiers à Graveson					\n				\n			\n								\n		\n						\n	\n\n\n\n				\n	\n\n				\n		\n												\n					\n						Club Entrepreneurs Terre de Provence à Châteaurenard					\n				\n			\n								\n		\n						\n	\n\n\n\n				\n	\n\n				\n		\n												\n					\n						Les Jardins de Cidamos\, Maraîcher Bio à Fontvieille					\n				\n			\n								\n		\n						\n	\n\n\n\n				\n	\n\n				\n		\n												\n					\n						Olivades\, Créateur et imprimeur de tissus provençaux à Saint Étienne du Grès					\n				\n			\n								\n		\n						\n	\n\n\n\n				\n	\n\n				\n		\n												\n					\n						Moulin à huile du Mas Saint Jean à Fontvieille					\n				\n			\n								\n		\n						\n	\n\n\n\n				\n	\n\n				\n		\n												\n					\n						Boutique Baumanière aux Baux de Provence					\n				\n			\n								\n		\n						\n	\n\n\n\n				\n	\n\n				\n		\n												\n					\n						Hameau des Baux – Hôtel 4*\, Restaurant & Guingette à Paradou					\n				\n			\n								\n		\n						\n	\n\n\n\n				\n	\n\n				\n		\n												\n					\n						Agence KHAKI – Architecte d’intérieur à Saint Rémy de Pce					\n				\n			\n								\n		\n						\n	\n\n\n\n				\n	\n\n				\n		\n												\n					\n						L’Epicerie Heureuse – Epicerie vrac & locavore à Saint Rémy de Pce					\n				\n			\n								\n		\n						\n	\n\n\n\n				\n	\n\n				\n		\n												\n					\n						PAMPA – Boutique Déco à Saint Rémy de Pce					\n				\n			\n								\n		\n						\n	\n\n\n\n				\n	\n\n				\n		\n												\n					\n						LA LAVANDIÈRE ST RÉMOISE à Saint Rémy de Pce					\n				\n			\n								\n		\n						\n	\n\n\n\n				\n	\n\n				\n		\n												\n					\n						MAS DE GOURGONNIER – Vignoble Bio à Mouriès					\n				\n			\n								\n		\n						\n	\n\n\n\n				\n	\n\n				\n		\n												\n					\n						DOMAINE DU DEVES – Vignoble Bio à Noves					\n				\n			\n								\n		\n						\n	\n\n\n\n				\n	\n\n				\n		\n												\n					\n						Equilibre et Vous\, Salle de sport et coaching sportif à Saint Rémy de Pce					\n				\n			\n								\n		\n						\n	\n\n\n\n				\n	\n\n				\n		\n												\n					\n						De l’Olivier au Couteau\, Artisan Créateur à Saint Rémy de Provence					\n				\n			\n								\n		\n						\n	\n\n\n\n				\n	\n\n				\n		\n												\n					\n						RYTHM’ALPILLES – Guide rando et vélo Alpilles/Camargue
URL:https://www.thegoodarles.com/good-time-agenda-sorties-et-evenements-pays-d-arles/fete-saint-eloi-maillane/
LOCATION:Maillane\, Maillane\, 13910\, France
CATEGORIES:à la une,Alpilles,Evénements religieux,Festivités et Traditions du Pays d'Arles,Maillane,Saint Eloi
ATTACH;FMTTYPE=image/png:https://www.thegoodarles.com/wp-content/uploads/2022/04/fete-saint-eloi-2023-maillane-une-1.png
GEO:43.8325251;4.7825111
END:VEVENT
BEGIN:VEVENT
DTSTART;TZID=Europe/Paris:20250725T080000
DTEND;TZID=Europe/Paris:20250729T170000
DTSTAMP:20260421T223100
CREATED:20240428T132505Z
LAST-MODIFIED:20250724T104757Z
UID:10000516-1753430400-1753808400@www.thegoodarles.com
SUMMARY:Fête de la Saint Eloi 2025 à Graveson
DESCRIPTION:Fête Saint Éloi Graveson\n2025 GRAVESON25 > 29 Juillet 2025La fête des laboureurs Rdv du 25 au 29 juillet 2025 à Graveson pour la Fête de la Saint Eloi 2025. 5 jours de fêtes traditionnelles en l’honneur des laboureurs et leur patron Saint Eloi. \nCrédit Photos : www.graveson-provence.com \nPROGRAMME\nFête de la Saint Eloi 2025\nà Graveson > Vendredi 25 Juillet\n17h30 – Maison des Arts : Vernissage de l’Exposition de Saint-Eloi\n22h – Arènes Municipales : Course de Tau Neufs \n> Samedi 26 Juillet\n19h – Cours National : Course de la charrette\n21h – Place Henri Dunant : Repas des prieurs avec marche et farandole\n22h – Cours National : Bal avec l’Orchestre « Christophe ALMERAS » \n> Dimanche 27 Juillet\n10h – Eglise de la Nativité de Marie : Messe de Saint Eloi\n11h – Cours National : Course de la charrette\n20h – Cours National : Bal avec l’Orchestre Paul Selmer \n> Lundi 28 Juillet\n8h – Eglise de la Nativité de Marie : Messe des Défunts Saint Eloi\n9h : Déjeuner des Amis de Saint Eloi\n17h – Arènes Municipales : Course camarguaise. Trophée de l’Avenir Souvenir Mrs MORENO & FAURE\n19h – Rues du village : Abrivado\n22h – Cours National : Bal avec l’Orchestre Richard Gardet \n> Mardi 29 Juillet\n11h – Rues du village : Encierro\n13h – Cours : Aïoli et animation musicale avec l’orchestre Franck Oriat\n16h – Arènes : Vachettes \nNOS BONNES ADRESSES\nSUR GRAVESON ET ALENTOURS \n				\n	\n\n				\n		\n												\n					\n						Ghostzone\, centre de paintball et lasergame					\n				\n			\n								\n		\n						\n	\n\n\n\n				\n	\n\n				\n		\n												\n					\n						Alpilles Bio – Magasin Bio à Saint Rémy de Provence					\n				\n			\n								\n		\n						\n	\n\n\n\n				\n	\n\n				\n		\n												\n					\n						Grès Vin – Caviste à Saint Etienne du Grès					\n				\n			\n								\n		\n						\n	\n\n\n\n				\n	\n\n				\n		\n												\n					\n						Chez Marie Broderies – Couture\, mercerie\, prêt à porter à Fontvieille					\n				\n			\n								\n		\n						\n	\n\n\n\n				\n	\n\n				\n		\n												\n					\n						Tommy Magere Peinture Décoration – Artisan Peintre à Saint Rémy de Provence					\n				\n			\n								\n		\n						\n	\n\n\n\n				\n	\n\n				\n		\n												\n					\n						Edith Luchesi – Coach Sportif à Saint Rémy de Provence – Alpilles					\n				\n			\n								\n		\n						\n	\n\n\n\n				\n	\n\n				\n		\n												\n					\n						Fiesta Dreams – Articles de fêtes et déguisements à Eyguières					\n				\n			\n								\n		\n						\n	\n\n\n\n				\n	\n\n				\n		\n												\n					\n						Pistou et Romarin – Traiteur à Plan d’Orgon					\n				\n			\n								\n		\n						\n	\n\n\n\n				\n	\n\n				\n		\n												\n					\n						Azerty Numérique\, Dépannage Informatique et Téléphonie à Saint Rémy de Provence					\n				\n			\n								\n		\n						\n	\n\n\n\n				\n	\n\n				\n		\n												\n					\n						Le Parc des Cordes\, restaurant à Fontvieille					\n				\n			\n								\n		\n						\n	\n\n\n\n				\n	\n\n				\n		\n												\n					\n						Les 2 Rives\, producteur-vente directe de viandes bio à Fontvieille					\n				\n			\n								\n		\n						\n	\n\n\n\n				\n	\n\n				\n		\n												\n					\n						Arkansas\, boutique prêt à porter à Saint Rémy de Provence					\n				\n			\n								\n		\n						\n	\n\n\n\n				\n	\n\n				\n		\n												\n					\n						Esprit Tendance\, Mobilier d’extérieur et Déco à Saint Rémy de Provence					\n				\n			\n								\n		\n						\n	\n\n\n\n				\n	\n\n				\n		\n												\n					\n						Maisons Renov\, Rénovation de maisons à Saint Rémy de Provence					\n				\n			\n								\n		\n						\n	\n\n\n\n				\n	\n\n				\n		\n												\n					\n						La Ferme du Ségalon\, Fromages de chèvre fermiers à Graveson					\n				\n			\n								\n		\n						\n	\n\n\n\n				\n	\n\n				\n		\n												\n					\n						Club Entrepreneurs Terre de Provence à Châteaurenard					\n				\n			\n								\n		\n						\n	\n\n\n\n				\n	\n\n				\n		\n												\n					\n						Les Jardins de Cidamos\, Maraîcher Bio à Fontvieille					\n				\n			\n								\n		\n						\n	\n\n\n\n				\n	\n\n				\n		\n												\n					\n						Olivades\, Créateur et imprimeur de tissus provençaux à Saint Étienne du Grès					\n				\n			\n								\n		\n						\n	\n\n\n\n				\n	\n\n				\n		\n												\n					\n						Moulin à huile du Mas Saint Jean à Fontvieille					\n				\n			\n								\n		\n						\n	\n\n\n\n				\n	\n\n				\n		\n												\n					\n						Boutique Baumanière aux Baux de Provence					\n				\n			\n								\n		\n						\n	\n\n\n\n				\n	\n\n				\n		\n												\n					\n						Hameau des Baux – Hôtel 4*\, Restaurant & Guingette à Paradou					\n				\n			\n								\n		\n						\n	\n\n\n\n				\n	\n\n				\n		\n												\n					\n						Agence KHAKI – Architecte d’intérieur à Saint Rémy de Pce					\n				\n			\n								\n		\n						\n	\n\n\n\n				\n	\n\n				\n		\n												\n					\n						L’Epicerie Heureuse – Epicerie vrac & locavore à Saint Rémy de Pce					\n				\n			\n								\n		\n						\n	\n\n\n\n				\n	\n\n				\n		\n												\n					\n						PAMPA – Boutique Déco à Saint Rémy de Pce					\n				\n			\n								\n		\n						\n	\n\n\n\n				\n	\n\n				\n		\n												\n					\n						LA LAVANDIÈRE ST RÉMOISE à Saint Rémy de Pce					\n				\n			\n								\n		\n						\n	\n\n\n\n				\n	\n\n				\n		\n												\n					\n						MAS DE GOURGONNIER – Vignoble Bio à Mouriès					\n				\n			\n								\n		\n						\n	\n\n\n\n				\n	\n\n				\n		\n												\n					\n						DOMAINE DU DEVES – Vignoble Bio à Noves					\n				\n			\n								\n		\n						\n	\n\n\n\n				\n	\n\n				\n		\n												\n					\n						Equilibre et Vous\, Salle de sport et coaching sportif à Saint Rémy de Pce					\n				\n			\n								\n		\n						\n	\n\n\n\n				\n	\n\n				\n		\n												\n					\n						De l’Olivier au Couteau\, Artisan Créateur à Saint Rémy de Provence					\n				\n			\n								\n		\n						\n	\n\n\n\n				\n	\n\n				\n		\n												\n					\n						RYTHM’ALPILLES – Guide rando et vélo Alpilles/Camargue					\n				\n			\n								\n		\n						\n	\n\n\nLa Fête de la Saint Eloi ( Sant Aloi en provençal ) La Fête de la Saint Eloi est une tradition très ancrée dans les villages du nord des Alpilles et du Val de Durance. Avec ses célèbres courses de la Carreto Ramado\, elle attire les foules dans chaque village où elle a lieu. \nPour en savoir plus PROCHAINS ÉVÉNEMENTS\nA GRAVESON & ALENTOURS Picasso 2026 aux Carrières des Lumières des Baux de Pce13 février 2026 à  10h00 >  3 janvier 2027 à  18h00Journées des Traditions Provençales 2026 à Châteaurenard26 mars à  11h00 >  26 avril à  19h00Féria des Tauromachies 2026 à Saint Étienne du Grès14 mai à  11h00 >  15 mai à  23h55Fête de la Transhumance 2026 à Saint Rémy de Pce25 mai à  10h30 >  19h00America Méjanes 20264 juillet à  17h00 >  5 juillet à  18h00
URL:https://www.thegoodarles.com/good-time-agenda-sorties-et-evenements-pays-d-arles/fete-de-la-saint-eloi-graveson/
LOCATION:Graveson\, Graveson\, 13690\, France
CATEGORIES:Evénements religieux,Faire la fête,Festivités et Traditions du Pays d'Arles,Graveson,Saint Eloi,Val Durance
ATTACH;FMTTYPE=image/png:https://www.thegoodarles.com/wp-content/uploads/2024/04/fete-saint-eloi-graveson-2024-une-1.png
GEO:43.8516775;4.7729441
END:VEVENT
END:VCALENDAR